BEGIN:VCALENDAR
VERSION:2.0
PRODID:-//Talks.cam//talks.cam.ac.uk//
X-WR-CALNAME:Talks.cam
BEGIN:VEVENT
SUMMARY:Target search with Levy strategies - Vladimir Palyulin (Skolkovo I
 nstitute of Science and Technology)
DTSTART:20230721T123000Z
DTEND:20230721T130000Z
UID:TALK201772@talks.cam.ac.uk
DESCRIPTION:The application of Levy models towards modelling of animal for
 aging produced a prominent Levy flight foraging hypothesis and a long disc
 ussion in the field. The talk will be devoted to some of the analytical an
 d numerical estimations of target search efficiency of Levy models. The qu
 estions of universality and general applicability to real data will be con
 sidered as well.
LOCATION:Seminar Room 1\, Newton Institute
END:VEVENT
END:VCALENDAR
