BEGIN:VCALENDAR
VERSION:2.0
PRODID:-//Talks.cam//talks.cam.ac.uk//
X-WR-CALNAME:Talks.cam
BEGIN:VEVENT
SUMMARY:Welcome and Introduction - Sebastian Reich (Universität Potsdam)\
 , Clare Merritt (Newton Gateway to Mathematics)\, David Wagg (University o
 f Sheffield)
DTSTART:20230607T093000Z
DTEND:20230607T094500Z
UID:TALK202261@talks.cam.ac.uk
DESCRIPTION:
LOCATION:Seminar Room 1\, Newton Institute
END:VEVENT
END:VCALENDAR
