BEGIN:VCALENDAR
VERSION:2.0
PRODID:-//Talks.cam//talks.cam.ac.uk//
X-WR-CALNAME:Talks.cam
BEGIN:VEVENT
SUMMARY:The Emergence of New Industries - Dr Paul Heffernan and Dr Rob Pha
 al\, IfM
DTSTART:20091105T173000Z
DTEND:20091105T183000Z
UID:TALK20242@talks.cam.ac.uk
CONTACT:Jo Griffiths
DESCRIPTION:In an increasingly global economy\, with rapidly increasing ra
 tes of technological innovation\, it is ever more important to build indus
 tries based on innovative science and engineering.  The ongoing Emerging I
 ndustries Programme at the Institute for Manufacturing is concerned with u
 nderstanding the translation of scientific ideas into products and service
 s.\n\nThis talk will introduce the programme and will demonstrate how “e
 mergence maps” can depict the growth of existing industries.  The discus
 sion will explore some of the recurring factors that have been found to pr
 omote or inhibit emergence and a preliminary model depicting the processes
  underlying it.\n\nRefreshments available from 17.00 hrs.  Presentation at
  17.30.\n
LOCATION:Institute for Manufacturing\, 17 Charles Babbage Road\, Cambridge
END:VEVENT
END:VCALENDAR
