BEGIN:VCALENDAR
VERSION:2.0
PRODID:-//Talks.cam//talks.cam.ac.uk//
X-WR-CALNAME:Talks.cam
BEGIN:VEVENT
SUMMARY:Generating Experimental Anomalous Trajectories with Controlled Sta
 tistics - Giorgio Volpe (University College London)
DTSTART:20231106T113000Z
DTEND:20231106T120000Z
UID:TALK203215@talks.cam.ac.uk
DESCRIPTION:
LOCATION:Seminar Room 1\, Newton Institute
END:VEVENT
END:VCALENDAR
