BEGIN:VCALENDAR
VERSION:2.0
PRODID:-//Talks.cam//talks.cam.ac.uk//
X-WR-CALNAME:Talks.cam
BEGIN:VEVENT
SUMMARY:When Art meets Psychology -  Prof. Clive Wilkins
DTSTART:20240202T163000Z
DTEND:20240202T180000Z
UID:TALK203566@talks.cam.ac.uk
CONTACT:John Mollon
DESCRIPTION:In a world that doubts the existence of freewill and where sci
 entists struggle to reveal the neural correlates for consciousness\, where
  do we look to discover the source for rational thought and creativity?\nA
  lecture and discussion of the complementary tools psychologists and artis
 ts use in their combined bid to make sense of a strange world~ and the met
 hods by which new thinking can be introduced into the exploration of age-o
 ld problems.\nIf reality and consciousness is an illusion\, on a parr with
  a magic trick\, how might we inhibit the deceptions implicit in the proce
 ss of thinking. \n\n
LOCATION:Ground Floor Lecture Theatre\, Department of  Psychology
END:VEVENT
END:VCALENDAR
