BEGIN:VCALENDAR
VERSION:2.0
PRODID:-//Talks.cam//talks.cam.ac.uk//
X-WR-CALNAME:Talks.cam
BEGIN:VEVENT
SUMMARY:Collective cell migration in complex environments - Edouard Hannez
 o  (Institute of Science and Technology (IST Austria))
DTSTART:20230904T133000Z
DTEND:20230904T141000Z
UID:TALK203806@talks.cam.ac.uk
DESCRIPTION:Living tissues are characterized by an intrinsically mechano-c
 hemical interplay of active physical forces and complex biochemical signal
 ling pathways. Either type of feature alone can give rise to complex emerg
 ent phenomena at the tissue scale\, for example mechanically driven flocki
 ng or rigidity transitions\, or chemically driven reaction-diffusion insta
 bilities. A first key question is thus how to quantitatively assess the co
 ntribution of these different cues to the large-scale dynamics of biologic
 al materials in cases where multiple phenomena are present or even coupled
 . A second question is how are cells mechano-chemically interact in a comp
 lex external environment as a function of boundary conditions. &nbsp\;In t
 his talk\, I will present a few examples that we have worked on in the con
 text of collective cell migration to start answering these questions.
LOCATION:Seminar Room 1\, Newton Institute
END:VEVENT
END:VCALENDAR
