BEGIN:VCALENDAR
VERSION:2.0
PRODID:-//Talks.cam//talks.cam.ac.uk//
X-WR-CALNAME:Talks.cam
BEGIN:VEVENT
SUMMARY:AI & Arbitration: A Compatible Marriage? - Maroof Rafique\, Law
DTSTART:20231128T183000Z
DTEND:20231128T193000Z
UID:TALK203926@talks.cam.ac.uk
CONTACT:Dr Stefanie Ullmann
DESCRIPTION:As the data revolution comes increasingly to characterize the 
 new global economy\, artificial intelligence (AI) is predicted to be the m
 ost disruptive technology of the twenty-first century. Recent studies pred
 ict a USD 15.7 trillion economic impact by 2030 due to the surge of AI. In
 evitably\, with the metaverse at hand utilising the principles and feature
 s of AI\, trending and future applications will range from the use of AI i
 n the arbitration process to its expansion as a tool for procedural manage
 ment in the tribunal framework. This article explores how AI and arbitrati
 on complement each other in the legal sector.
LOCATION:Richard King room\, Darwin College
END:VEVENT
END:VCALENDAR
