BEGIN:VCALENDAR
VERSION:2.0
PRODID:-//Talks.cam//talks.cam.ac.uk//
X-WR-CALNAME:Talks.cam
BEGIN:VEVENT
SUMMARY:Stefan Hutzler - Packings Problems in Foams - Stefan Hutzler (Trin
 ity College Dublin)
DTSTART:20230815T090000Z
DTEND:20230815T100000Z
UID:TALK204058@talks.cam.ac.uk
DESCRIPTION:
LOCATION:External
END:VEVENT
END:VCALENDAR
