BEGIN:VCALENDAR
VERSION:2.0
PRODID:-//Talks.cam//talks.cam.ac.uk//
X-WR-CALNAME:Talks.cam
BEGIN:VEVENT
SUMMARY:Gravitational solutions\, quivers and AdS/CFT - Yolanda Lozano (Un
 iversidad de Oviedo)
DTSTART:20231016T093000Z
DTEND:20231016T110000Z
UID:TALK204196@talks.cam.ac.uk
DESCRIPTION:We will review explicit constructions of quiver field theories
  from brane intersections with AdS near horizon geometries\, and show how 
 they can be used to test the AdS/CFT correspondence
LOCATION:Seminar Room 2\, Newton Institute
END:VEVENT
END:VCALENDAR
