BEGIN:VCALENDAR
VERSION:2.0
PRODID:-//Talks.cam//talks.cam.ac.uk//
X-WR-CALNAME:Talks.cam
BEGIN:VEVENT
SUMMARY:Subgraphs - Speaker to be confirmed
DTSTART:20230828T160000Z
DTEND:20230828T170000Z
UID:TALK204235@talks.cam.ac.uk
CONTACT:Pietro Lio
DESCRIPTION:subgraphs
LOCATION:Lecture Theatre 2\, Computer Laboratory\, William Gates Building
END:VEVENT
END:VCALENDAR
