BEGIN:VCALENDAR
VERSION:2.0
PRODID:-//Talks.cam//talks.cam.ac.uk//
X-WR-CALNAME:Talks.cam
BEGIN:VEVENT
SUMMARY:Aristotelian Ancient Constitutionalism in Stuart Ireland: Substanc
 e\, the Four Causes and Politics - Ian Campbell (Trinity College\, Dublin)
DTSTART:20091104T170000Z
DTEND:20091104T183000Z
UID:TALK20434@talks.cam.ac.uk
CONTACT:Richard Serjeantson
DESCRIPTION:Abstract not available
LOCATION:Graham Storey Room\, Trinity Hall
END:VEVENT
END:VCALENDAR
