BEGIN:VCALENDAR
VERSION:2.0
PRODID:-//Talks.cam//talks.cam.ac.uk//
X-WR-CALNAME:Talks.cam
BEGIN:VEVENT
SUMMARY:Fortran 77: It's really C with none of the safeguards - Simon Clif
 ford - RSE\, University of Cambridge
DTSTART:20231026T120000Z
DTEND:20231026T130000Z
UID:TALK204721@talks.cam.ac.uk
CONTACT:Jack Atkinson
DESCRIPTION:Fortran was summoned by IBM's warlocks nearly 70 years ago. So
  should we still be interested in this crusty old programming language?\nC
 ome with crusty old Simon as he opens the vault and delves into some disti
 nctly not-modern Fortran.\n\n* GASP as we use pointers in a language that 
 doesn't have pointers.\n* THRILL as we cast between types without knowing 
 we're doing it.\n* GROAN as we make whitespace important years before Pyth
 on thought of it.\n\nHybrid Zoom details will be emailed to the RSE mailin
 g list\; if you are not on the list\, please contact the organisers.
LOCATION:West 1\, West Hub
END:VEVENT
END:VCALENDAR
