BEGIN:VCALENDAR
VERSION:2.0
PRODID:-//Talks.cam//talks.cam.ac.uk//
X-WR-CALNAME:Talks.cam
BEGIN:VEVENT
SUMMARY:Liton Majumdar on the Link Between Planet Formation and Atmosphere
 s - Liton Majumdar (NISER\, Exoplanets and Planetary Formation Group)
DTSTART:20231207T110000Z
DTEND:20231207T120000Z
UID:TALK204970@talks.cam.ac.uk
CONTACT:Paul B. Rimmer
DESCRIPTION:In person.
LOCATION:Thirkill Room\, Old Court\, Clare College
END:VEVENT
END:VCALENDAR
