BEGIN:VCALENDAR
VERSION:2.0
PRODID:-//Talks.cam//talks.cam.ac.uk//
X-WR-CALNAME:Talks.cam
BEGIN:VEVENT
SUMMARY:Ben Tutolo on Mars Geochemistry - Ben Tutolo (Department of Earth\
 , Energy\, and Environment\; University of Calgary)
DTSTART:20240523T100000Z
DTEND:20240523T110000Z
UID:TALK204991@talks.cam.ac.uk
CONTACT:Paul B. Rimmer
DESCRIPTION:In Person
LOCATION:Thirkill Room\, Old Court\, Clare College
END:VEVENT
END:VCALENDAR
