BEGIN:VCALENDAR
VERSION:2.0
PRODID:-//Talks.cam//talks.cam.ac.uk//
X-WR-CALNAME:Talks.cam
BEGIN:VEVENT
SUMMARY:LARMOR LECTURE From superconductors to giant planets: a computatio
 nal window on materials - Professor Chris Pickard\, Sir Alan Cottrell Prof
 essor of Materials Science\, Department of Materials Science & Metallurgy
DTSTART:20231009T170000Z
DTEND:20231009T180000Z
UID:TALK205315@talks.cam.ac.uk
CONTACT:Beverley Larner
DESCRIPTION:Modern methods for computing the properties of realistic mater
 ials from first principles (starting from quantum mechanics) have resulted
  in robust\, efficient\, and easy to use computer codes.\n\nWith with the 
 explosion of available computational resources\, and increasingly\, machin
 e learning\, it has become possible to search though the vast space of com
 positions and arrangements of atoms to “discover” new materials with e
 xtreme properties\, or under extreme and experimentally difficult to acces
 s conditions.\n\nExamples range from the computational prediction of super
 conductors with very high superconducting transition temperatures\, which 
 at least in some cases have been confirmed experimentally\, to the predict
 ion of the behaviour of matter in the centre of giant planets\, or even wh
 ite dwarf stars.
LOCATION:Bristol-Myers Squibb Lecture Theatre\, Department of Chemistry
END:VEVENT
END:VCALENDAR
