BEGIN:VCALENDAR
VERSION:2.0
PRODID:-//Talks.cam//talks.cam.ac.uk//
X-WR-CALNAME:Talks.cam
BEGIN:VEVENT
SUMMARY:Reading Group Special Edition: ACL/EMNLP Review - NLIP Group Membe
 rs
DTSTART:20091012T110000Z
DTEND:20091012T123000Z
UID:TALK20563@talks.cam.ac.uk
CONTACT:Diarmuid Ó Séaghdha
DESCRIPTION:For the first reading group meeting of the year we're organisi
 ng a review of the recent ACL/EMNLP conferences in Singapore\, presented b
 y group members who attended. The presenters will be sharing their impress
 ion of what was cool\, new and impressive this year and pointing out what 
 they consider to have been the best papers they saw.\n\nAll welcome!
LOCATION:GS15\, Computer Laboratory
END:VEVENT
END:VCALENDAR
