BEGIN:VCALENDAR
VERSION:2.0
PRODID:-//Talks.cam//talks.cam.ac.uk//
X-WR-CALNAME:Talks.cam
BEGIN:VEVENT
SUMMARY:Sustainable academic performance - Sarah Hardy - Student Support S
 ervices
DTSTART:20240124T140000Z
DTEND:20240124T150000Z
UID:TALK207226@talks.cam.ac.uk
CONTACT:James Fergusson
DESCRIPTION:Abstract not available
LOCATION:Maxwell Centre
END:VEVENT
END:VCALENDAR
