BEGIN:VCALENDAR
VERSION:2.0
PRODID:-//Talks.cam//talks.cam.ac.uk//
X-WR-CALNAME:Talks.cam
BEGIN:VEVENT
SUMMARY:Gender Segregation in Employment: International Patterns of Inequa
 lity and Difference - Dr. Bob Blackburn. Emeritus Reader in Sociology\, Ca
 mbridge
DTSTART:20091026T123000Z
DTEND:20091026T133000Z
UID:TALK20734@talks.cam.ac.uk
CONTACT:Lesley Dixon
DESCRIPTION:Abstract not available
LOCATION:Hardy Building (Downing Site) Room 101
END:VEVENT
END:VCALENDAR
