BEGIN:VCALENDAR
VERSION:2.0
PRODID:-//Talks.cam//talks.cam.ac.uk//
X-WR-CALNAME:Talks.cam
BEGIN:VEVENT
SUMMARY:Extreme value and sum statistics of a family of correlated variabl
 es - Hernan Larralde (Universidad Nacional Autonoma de Mexico (UNAM))
DTSTART:20231030T133000Z
DTEND:20231030T143000Z
UID:TALK207832@talks.cam.ac.uk
DESCRIPTION:
LOCATION:Seminar Room 2\, Newton Institute
END:VEVENT
END:VCALENDAR
