BEGIN:VCALENDAR
VERSION:2.0
PRODID:-//Talks.cam//talks.cam.ac.uk//
X-WR-CALNAME:Talks.cam
BEGIN:VEVENT
SUMMARY:Open problem/Discussion: Inferring collective behavior in a wild b
 at swarm from audio-visual data - Nicole Abaid (Virginia Polytechnic Insti
 tute and State University)
DTSTART:20231211T140000Z
DTEND:20231211T150000Z
UID:TALK209320@talks.cam.ac.uk
DESCRIPTION:
LOCATION:Seminar Room 2\, Newton Institute
END:VEVENT
END:VCALENDAR
