BEGIN:VCALENDAR
VERSION:2.0
PRODID:-//Talks.cam//talks.cam.ac.uk//
X-WR-CALNAME:Talks.cam
BEGIN:VEVENT
SUMMARY:Light from the Cosmic Dawn: origin and observational signatures of
  the first black holes - Alessandro Trinca (Rome)
DTSTART:20240216T113000Z
DTEND:20240216T123000Z
UID:TALK210736@talks.cam.ac.uk
CONTACT:Sandro Tacchella
DESCRIPTION:Abstract not available
LOCATION:Ryle seminar room + online
END:VEVENT
END:VCALENDAR
