BEGIN:VCALENDAR
VERSION:2.0
PRODID:-//Talks.cam//talks.cam.ac.uk//
X-WR-CALNAME:Talks.cam
BEGIN:VEVENT
SUMMARY:Title to be confirmed - Prof. Kevin Brindle\, (CRUK Cambridge Rese
 arch Institute and Department of Biochemistry)
DTSTART:20100420T110000Z
DTEND:20100420T120000Z
UID:TALK21209@talks.cam.ac.uk
CONTACT:Mala Jayasundera
DESCRIPTION:Abstract not available
LOCATION:CRI Lecture Theatre
END:VEVENT
END:VCALENDAR
