BEGIN:VCALENDAR
VERSION:2.0
PRODID:-//Talks.cam//talks.cam.ac.uk//
X-WR-CALNAME:Talks.cam
BEGIN:VEVENT
SUMMARY:International Women's Day at the IoA -  
DTSTART:20240308T130000Z
DTEND:20240308T170000Z
UID:TALK213118@talks.cam.ac.uk
CONTACT:121441
DESCRIPTION:• 13.00 pm-14.00:Keynote Speaker: Ghina Halabi\n\n• 14.00 
 pm-14.45:Flash Talks: Sandro Tacchella & Alejandra Castro\n\n• 14.45 pm-
 15.15:Tea\, Coffee and Cake\n\n• 15.15 pm-16.30:An Interactive Session o
 n Recognising                  Accomplishments\n\n• 16.30 pm-16.50: Flas
 h Talk: Greg Cooke\n\n• 16.50 pm-17.00: Closing Remarks\n
LOCATION:Hoyle Lecture Theatre\, IoA 
END:VEVENT
END:VCALENDAR
