BEGIN:VCALENDAR
VERSION:2.0
PRODID:-//Talks.cam//talks.cam.ac.uk//
X-WR-CALNAME:Talks.cam
BEGIN:VEVENT
SUMMARY:Invariant NKT cell receptors: innate-type recognition with an adap
 tive gear - Stephan Gadola\, Division of Infection\, University of Southam
 pton
DTSTART:20100129T130000Z
DTEND:20100129T140000Z
UID:TALK21348@talks.cam.ac.uk
CONTACT:Denise Schofield
DESCRIPTION:Abstract not available
LOCATION:Sackler Lecture Theatre (Level 7)\, Cambridge Institute for Medic
 al Research
END:VEVENT
END:VCALENDAR
