BEGIN:VCALENDAR
VERSION:2.0
PRODID:-//Talks.cam//talks.cam.ac.uk//
X-WR-CALNAME:Talks.cam
BEGIN:VEVENT
SUMMARY:Graph-Codes - Noga Alon (Princeton University)
DTSTART:20240410T103000Z
DTEND:20240410T113000Z
UID:TALK213973@talks.cam.ac.uk
DESCRIPTION:Viewing binary vectors as characteristic vectors of graphs tra
 nsforms the basic combinatorial questions of Coding Theory into intriguing
  extremal problems about families of graphs.I will discuss these problems\
 , mention a motivating question of Gowers\, and describe several results a
 nd open problems.
LOCATION:Seminar Room 1\, Newton Institute
END:VEVENT
END:VCALENDAR
