BEGIN:VCALENDAR
VERSION:2.0
PRODID:-//Talks.cam//talks.cam.ac.uk//
X-WR-CALNAME:Talks.cam
BEGIN:VEVENT
SUMMARY:Quantum Information - Ivan Todorov (University of Delaware)\, Gemm
 a De les Coves (Universitat Pompeu Fabra)
DTSTART:20241107T140000Z
DTEND:20241107T144500Z
UID:TALK215242@talks.cam.ac.uk
DESCRIPTION:
LOCATION:Seminar Room 1\, Newton Institute
END:VEVENT
END:VCALENDAR
