BEGIN:VCALENDAR
VERSION:2.0
PRODID:-//Talks.cam//talks.cam.ac.uk//
X-WR-CALNAME:Talks.cam
BEGIN:VEVENT
SUMMARY:Human cytomegalovirus and its obsession with Natural Killer cells 
 - Gavin Wilkinson\, Medical Microbiology\, University of Cardiff
DTSTART:20100305T130000Z
DTEND:20100305T140000Z
UID:TALK21535@talks.cam.ac.uk
CONTACT:Denise Schofield
DESCRIPTION:Abstract not available
LOCATION:Sackler Lecture Theatre (Level 7)\, Cambridge Institute for Medic
 al Research
END:VEVENT
END:VCALENDAR
