BEGIN:VCALENDAR
VERSION:2.0
PRODID:-//Talks.cam//talks.cam.ac.uk//
X-WR-CALNAME:Talks.cam
BEGIN:VEVENT
SUMMARY:Correlated Resetting Gas - Satya Majumdar (Université Paris Sacla
 y)
DTSTART:20240708T104500Z
DTEND:20240708T114500Z
UID:TALK215557@talks.cam.ac.uk
DESCRIPTION:I will first discuss the equilibrium properties of a gas of N 
 interacting particles on aline. I will then introduce a simple model of N 
 independent Brownian particles that aresubjected to simultaneous stochasti
 c resetting with rate r. The simultaneous resettinggenerates an effective 
 dynamical all-to-all attractions between particles that persist evenat lon
 g times in its nonequilibrium stationary state (NESS). Despite the presenc
 e of strongcorrelations\, many physical observables such as the average de
 nsity\, extreme statistics\,order and gap/spacing statistics\, full counti
 ng statistics etc. can be computed exactly inthe NESS and they exhibit ric
 h and interesting behaviors. The physical mechanism built inthis simple mo
 del allows it to generalise and invent a whole class of solvable stronglyc
 orrelated gases\, some of which are experimentally realisable in optical t
 rap systems.
LOCATION:Seminar Room 1\, Newton Institute
END:VEVENT
END:VCALENDAR
