BEGIN:VCALENDAR
VERSION:2.0
PRODID:-//Talks.cam//talks.cam.ac.uk//
X-WR-CALNAME:Talks.cam
BEGIN:VEVENT
SUMMARY:'Type Analysis for JavaScript'\, by Jensen\, Møller and Thiemann 
 - Matko Botincan (University of Cambridge)
DTSTART:20091125T110000Z
DTEND:20091125T123000Z
UID:TALK21643@talks.cam.ac.uk
CONTACT:Mike Dodds
DESCRIPTION:http://www.cs.au.dk/~amoeller/papers/tajs/paper.pdf
LOCATION:Room FW09\, Computer Laboratory\, William Gates Building
END:VEVENT
END:VCALENDAR
