BEGIN:VCALENDAR
VERSION:2.0
PRODID:-//Talks.cam//talks.cam.ac.uk//
X-WR-CALNAME:Talks.cam
BEGIN:VEVENT
SUMMARY:New Insights from the Collaboratory for the Study of Earthquake Pr
 edictability (CSEP) - Max Werner -- University of Bristol
DTSTART:20240501T130000Z
DTEND:20240501T140000Z
UID:TALK216445@talks.cam.ac.uk
CONTACT:Adriano Gualandi
DESCRIPTION:As seismology enters the era of statistical aftershock forecas
 ting and continuous real-time seismic hazard estimation\, the community ne
 eds independent model evaluation methodology to provide the best available
  science and to understand its current limitations. CSEP is a global commu
 nity with a mission to improve earthquake forecasting by comparative model
  testing in a truly prospective manner (i.e.\, against data not yet availa
 ble during model development). In this talk\, I will provide an overview o
 f new insights into earthquake predictability gained by CSEP experiments a
 round the globe and over nearly two decades. I will illustrate how these i
 nsights are informing national seismic hazard models and real-time forecas
 ting.
LOCATION:Wolfson Lecture Theatre
END:VEVENT
END:VCALENDAR
