BEGIN:VCALENDAR
VERSION:2.0
PRODID:-//Talks.cam//talks.cam.ac.uk//
X-WR-CALNAME:Talks.cam
BEGIN:VEVENT
SUMMARY:“The Spliceosome in Health and Disease”  - Daniel R. Larson\, 
 Ph.D.\, Head of Systems Biology of Gene Expression\, Co-Chair Trans-NIH My
 eloid Malignancies Program\, NCI Centre for Cancer Research 
DTSTART:20240618T130000Z
DTEND:20240618T140000Z
UID:TALK217825@talks.cam.ac.uk
CONTACT:Ruth Paton
DESCRIPTION:Daniel R. Larson\, Ph.D.\nHead of Systems Biology of Gene Expr
 ession\, Co-Chair Trans-NIH Myeloid Malignancies Program\, NCI Centre for 
 Cancer Research presents: “The Spliceosome in Health and Disease” \n\n
 Tuesday 18 June 2024\n14:00 - 15:00 BST\n\nIn-Person:  Lecture Theatre\, J
 effrey Cheah Biomedical Centre\, Cambridge\n\nHost: Professor Paul Lehner\
 , Wellcome Trust Principal Research Fellow\, University of Cambridge\n
LOCATION: Lecture Theatre\, Jeffrey Cheah Biomedical Centre\, Cambridge Bi
 omedical Campus
END:VEVENT
END:VCALENDAR
