BEGIN:VCALENDAR
VERSION:2.0
PRODID:-//Talks.cam//talks.cam.ac.uk//
X-WR-CALNAME:Talks.cam
BEGIN:VEVENT
SUMMARY:Seeking (and Finding!) the Photons for Reionization with JWST - Ro
 han Naidu (MIT)
DTSTART:20240724T140000Z
DTEND:20240724T150000Z
UID:TALK218275@talks.cam.ac.uk
CONTACT:Sandro Tacchella
DESCRIPTION:Abstract not available
LOCATION:Ryle seminar room + online
END:VEVENT
END:VCALENDAR
