BEGIN:VCALENDAR
VERSION:2.0
PRODID:-//Talks.cam//talks.cam.ac.uk//
X-WR-CALNAME:Talks.cam
BEGIN:VEVENT
SUMMARY:Surface rupture and landsliding in the great 12 May 2008 Sichuan e
 arthquake - Dr Alexander Densmore\, Durham University
DTSTART:20100224T163000Z
DTEND:20100224T173000Z
UID:TALK21844@talks.cam.ac.uk
CONTACT:Ed Nissen
DESCRIPTION:Abstract not available
LOCATION:Marine/Wolfson Building lecture hall
END:VEVENT
END:VCALENDAR
