BEGIN:VCALENDAR
VERSION:2.0
PRODID:-//Talks.cam//talks.cam.ac.uk//
X-WR-CALNAME:Talks.cam
BEGIN:VEVENT
SUMMARY:Placental Biology Course 2024 - Range of speakers 
DTSTART:20240908T230000Z
DTEND:20240908T230000Z
UID:TALK218509@talks.cam.ac.uk
CONTACT:120118
DESCRIPTION:*9-13th September 2024*\n\nThis five day online course is aime
 d at students\, post-docs\, established researchers\, medical & veterinary
  healthcare professionals and industry colleagues interested in cutting-ed
 ge placental biology and research.\n\nIt will run online with course conte
 nt around four key themes:\n\n* Pre- to peri-implantation development\n* E
 stablishment of placentation\n* Placental pathology\n* Physiology and meta
 bolism\n\nLectures are available on demand\, alongide with live daily Q&A 
 sessions with lecturers. And the opportunity to join Fellowship Workshops 
 and Meet and Greets. \n\nA small number of full or partial bursaries/schol
 arships will be available to eligible candidates based on need.\n\nBursary
  registration closes: 8 July 2024 \nRegistration closes: 2 Sep 2024\n\nFin
 d out more at https://www.trophoblast.cam.ac.uk/placentalbiologycourse\n
LOCATION:Online
END:VEVENT
END:VCALENDAR
