BEGIN:VCALENDAR
VERSION:2.0
PRODID:-//Talks.cam//talks.cam.ac.uk//
X-WR-CALNAME:Talks.cam
BEGIN:VEVENT
SUMMARY:On Carbon Sequestration - Professor Andy Woods\, BPI Institute\, U
 niversity of Cambridge
DTSTART:20100303T163000Z
DTEND:20100303T173000Z
UID:TALK21887@talks.cam.ac.uk
CONTACT:Ed Nissen
DESCRIPTION:Abstract not available
LOCATION:Marine/Wolfson Building lecture hall
END:VEVENT
END:VCALENDAR
