BEGIN:VCALENDAR
VERSION:2.0
PRODID:-//Talks.cam//talks.cam.ac.uk//
X-WR-CALNAME:Talks.cam
BEGIN:VEVENT
SUMMARY:Moving around Monuments: Construction and Experience of Social/Sac
 red Space in Later Medieval England - Kelcey Wilson-Lee
DTSTART:20100125T173000Z
DTEND:20100125T184500Z
UID:TALK21915@talks.cam.ac.uk
CONTACT:Clare Vernon
DESCRIPTION:Part of the Medieval Art Seminars
LOCATION:The History of Art Graduate Centre - 4a Trumpington Street
END:VEVENT
END:VCALENDAR
