BEGIN:VCALENDAR
VERSION:2.0
PRODID:-//Talks.cam//talks.cam.ac.uk//
X-WR-CALNAME:Talks.cam
BEGIN:VEVENT
SUMMARY:Direct influence or parallel development? Cell vaults in European 
 and Islamic architecture of the 15th century - Peter Draper (Birkbeck)
DTSTART:20100208T173000Z
DTEND:20100208T184500Z
UID:TALK21916@talks.cam.ac.uk
CONTACT:Clare Vernon
DESCRIPTION:Part of the Medieval Art Seminars
LOCATION:The History of Art Graduate Centre - 4a Trumpington Street
END:VEVENT
END:VCALENDAR
