BEGIN:VCALENDAR
VERSION:2.0
PRODID:-//Talks.cam//talks.cam.ac.uk//
X-WR-CALNAME:Talks.cam
BEGIN:VEVENT
SUMMARY:Representing Fermions on Quantum Computers: From Algebra to Circui
 ts - Charlie Derby (Phasecraft)
DTSTART:20241112T101000Z
DTEND:20241112T104500Z
UID:TALK220006@talks.cam.ac.uk
DESCRIPTION:
LOCATION:Seminar Room 1\, Newton Institute
END:VEVENT
END:VCALENDAR
