BEGIN:VCALENDAR
VERSION:2.0
PRODID:-//Talks.cam//talks.cam.ac.uk//
X-WR-CALNAME:Talks.cam
BEGIN:VEVENT
SUMMARY:ISA specification in Sail - Alasdair Armstrong (University of Camb
 ridge)
DTSTART:20241007T111500Z
DTEND:20241007T114500Z
UID:TALK220246@talks.cam.ac.uk
DESCRIPTION:
LOCATION:Seminar Room 1\, Newton Institute
END:VEVENT
END:VCALENDAR
