BEGIN:VCALENDAR
VERSION:2.0
PRODID:-//Talks.cam//talks.cam.ac.uk//
X-WR-CALNAME:Talks.cam
BEGIN:VEVENT
SUMMARY:Photogrammetry from a non-UAV perspective: a low-cost high-resolut
 ion alternative to drone use for recording plots in the field - Millie Har
 ding\, University of Durham
DTSTART:20240926T093000Z
DTEND:20240926T103000Z
UID:TALK220927@talks.cam.ac.uk
CONTACT:123586
DESCRIPTION:UAVs are used around the world to collect high resolution imag
 e data but in light of generally increasing regulations and power requirem
 ents it can be very difficult to use UAVs in the field. UAVs are also limi
 ted to imaging above the tree canopy making it difficult to fully record a
 ll of the environment. Pole photogrammetry presents an alternative which s
 olves the issues highlighted above whilst being relatively lightweight and
  cost-effective to use.
LOCATION:Lecture Theatre\, Scott Polar Research Institute
END:VEVENT
END:VCALENDAR
