BEGIN:VCALENDAR
VERSION:2.0
PRODID:-//Talks.cam//talks.cam.ac.uk//
X-WR-CALNAME:Talks.cam
BEGIN:VEVENT
SUMMARY:Numerical analysis for the stochastic Landau-Lifshitz-Gilbert equa
 tion - Prohl\, A (Tbingen)
DTSTART:20100105T113000Z
DTEND:20100105T123000Z
UID:TALK22175@talks.cam.ac.uk
CONTACT:Mustapha Amrani
DESCRIPTION:
LOCATION:Seminar Room 1\, Newton Institute
END:VEVENT
END:VCALENDAR
