BEGIN:VCALENDAR
VERSION:2.0
PRODID:-//Talks.cam//talks.cam.ac.uk//
X-WR-CALNAME:Talks.cam
BEGIN:VEVENT
SUMMARY:Back to the Building Blocks -  Anjana  Rajan (the Office of the Wh
 ite House)
DTSTART:20241021T130000Z
DTEND:20241021T134500Z
UID:TALK221833@talks.cam.ac.uk
DESCRIPTION:
LOCATION:Seminar Room 1\, Newton Institute
END:VEVENT
END:VCALENDAR
