BEGIN:VCALENDAR
VERSION:2.0
PRODID:-//Talks.cam//talks.cam.ac.uk//
X-WR-CALNAME:Talks.cam
BEGIN:VEVENT
SUMMARY:CILR Workshop: THE FINAL-OVER-FINAL CONSTRAINT: TYPOLOGY\, ACQUISI
 TION AND PROCESSING - Full details available at www.cilr.cam.ac.uk
DTSTART:20100129T090000Z
DTEND:20100129T183000Z
UID:TALK22197@talks.cam.ac.uk
CONTACT:Dr. Luna Filipovic
DESCRIPTION:Numerous
LOCATION:Sidgwick Site\; Morning session: Sidgwick Hall\, Newnham College 
 & Afternoon session: English Faculty\, GR06-7
END:VEVENT
END:VCALENDAR
