BEGIN:VCALENDAR
VERSION:2.0
PRODID:-//Talks.cam//talks.cam.ac.uk//
X-WR-CALNAME:Talks.cam
BEGIN:VEVENT
SUMMARY:Evidence synthesis for social and behavioural interventions:  NICE
 's experience of developing public health guidance - Professor Mike Kelly\
 , NICE
DTSTART:20100226T130000Z
DTEND:20100226T140000Z
UID:TALK22240@talks.cam.ac.uk
CONTACT:Dr Jessica Barrett
DESCRIPTION:Abstract not available
LOCATION:Large Seminar Room\, 1st Floor\, Institute of Public Health\, Uni
 versity Forvie Site\, Robinson Way\, Cambridge
END:VEVENT
END:VCALENDAR
