BEGIN:VCALENDAR
VERSION:2.0
PRODID:-//Talks.cam//talks.cam.ac.uk//
X-WR-CALNAME:Talks.cam
BEGIN:VEVENT
SUMMARY:Vital geographies for the kids! - Philip Howell and Olga Petri
DTSTART:20241203T150000Z
DTEND:20241203T170000Z
UID:TALK222646@talks.cam.ac.uk
CONTACT:124492
DESCRIPTION:Part 1.
LOCATION:Seminar Room\, Department of Geography
END:VEVENT
END:VCALENDAR
