BEGIN:VCALENDAR
VERSION:2.0
PRODID:-//Talks.cam//talks.cam.ac.uk//
X-WR-CALNAME:Talks.cam
BEGIN:VEVENT
SUMMARY:Bringing network coding into the network - Muriel Medard (MIT)
DTSTART:20100114T160000Z
DTEND:20100114T170000Z
UID:TALK22317@talks.cam.ac.uk
CONTACT:Eiko Yoneki
DESCRIPTION:Theoretical developments in network coding have pointed to dif
 ferent possible approaches for how coding can be incorporated in networkin
 g. In this talk\, we consider using network coding in different settings. 
 In particular\, we consider the use of network coding in peer-to-peer netw
 orks\, wireless TCP/IP connections and mobile ad-hoc networks. We show tha
 t there is no single approach to network coding that can be successfully a
 pplied in all cases\, but that careful co-design of network coding techniq
 ues with protocols may lead to significant gains.\n\n
LOCATION:FW26\, Computer Laboratory\, William Gates Builiding
END:VEVENT
END:VCALENDAR
