BEGIN:VCALENDAR
VERSION:2.0
PRODID:-//Talks.cam//talks.cam.ac.uk//
X-WR-CALNAME:Talks.cam
BEGIN:VEVENT
SUMMARY:Stochastic networks and measure-valued processes - Ramanan\, K (Ca
 rnegie Mellon)
DTSTART:20100115T140000Z
DTEND:20100115T150000Z
UID:TALK22499@talks.cam.ac.uk
CONTACT:Mustapha Amrani
DESCRIPTION:Abstract not available
LOCATION:Seminar Room 1\, Newton Institute
END:VEVENT
END:VCALENDAR
