BEGIN:VCALENDAR
VERSION:2.0
PRODID:-//Talks.cam//talks.cam.ac.uk//
X-WR-CALNAME:Talks.cam
BEGIN:VEVENT
SUMMARY:"New guidelines for molecular materials design beyond the frontier
  orbital picture" - Dr Felix Plasser\, Dept. of Chemistry\, Loughborough U
 niversity
DTSTART:20241205T110000Z
DTEND:20241205T120000Z
UID:TALK225109@talks.cam.ac.uk
CONTACT:Sharon Connor
DESCRIPTION:Abstract not available
LOCATION:Dept of Chemistry\, Pfizer Lecture Theatre
END:VEVENT
END:VCALENDAR
