BEGIN:VCALENDAR
VERSION:2.0
PRODID:-//Talks.cam//talks.cam.ac.uk//
X-WR-CALNAME:Talks.cam
BEGIN:VEVENT
SUMMARY:Epistemology\, Ontology\, What's that got to do with...Social Work
 \, Medicine\, - Cathy Aymer\, Toyin Okitikpi\, Elizabeth Fistein
DTSTART:20100121T170000Z
DTEND:20100121T190000Z
UID:TALK22589@talks.cam.ac.uk
CONTACT:Rachel Hughes
DESCRIPTION:An event organised by the Health and Welfare Research Group\, 
 CRASSH\,\nUniversity of Cambridge. \n\nDate:  Thursday 21st January\nTime:
   17:00 - 19:00\nLocation: Centre for Research in the Arts\, Social Scienc
 es and Humanities\, 17\nMill Lane\, Cambridge\, CB2 1RX\n\nHealth and soci
 al work professionals work at the frontiers of knowledge in\nhealth and we
 lfare and yet their professional training programmes do not\nalways dedica
 te time to questions of epistemology and ontology.  What\nimpact does this
  have on their ability to deliver good care?\n\nThis seminar event will in
 clude presentations by the following speakers\,\nfollowed by a roundtable 
 discussion.\n\nDr Cathy Aymer (Social Worker/Senior Lecturer)\, School of 
 Health Sciences\nand Social Care\, Brunel University\nProfessor Toyin Okit
 ikpi\, Visiting Professor in Social Work\, University of\nBedfordshire\nDr
  Elizabeth Fistein (Psychiatrist/Ethics and Law Teaching Coordinator)\,\nS
 chool of Clinical Medicine\, University of Cambridge  \n\nFaculty staff\, 
 students\, clinicians/practitioners and anyone else keen to\ndiscuss these
  ideas in an academic environment are welcome. \n\n*The title of the semin
 ar is based on Dr Aymer and Prof Okitikpi's paper in\nSocial Work Educatio
 n which is available at\nhttp://www.informaworld.com/smpp/content~content=
 a713697947&db=all or\nfrom the event organiser.  You do not need to have r
 ead the article to attend\nthe event. \n\nFor more information contact:  R
 achel Hughes on 07507 278055 or\nrmp49@medschl.cam.ac.uk\n\n\n
LOCATION:CRASSH\, 17 Mill Lane\, Cambridge\, CB2 1RX
END:VEVENT
END:VCALENDAR
