BEGIN:VCALENDAR
VERSION:2.0
PRODID:-//Talks.cam//talks.cam.ac.uk//
X-WR-CALNAME:Talks.cam
BEGIN:VEVENT
SUMMARY:Title to be confirmed - Tom Newby\, Buro Happold 
DTSTART:20250320T120000Z
DTEND:20250320T130000Z
UID:TALK227617@talks.cam.ac.uk
CONTACT:Daniel Dalton
DESCRIPTION:Abstract not available
LOCATION:Seminar Room\, 2nd Floor South Wing (2S)\, Roger Needham Building
 \, University of Cambridge
END:VEVENT
END:VCALENDAR
